BEGIN:VCALENDAR
VERSION:2.0
PRODID:-//147.100.242.14//NONSGML kigkonsult.se iCalcreator 2.41.92//
CALSCALE:GREGORIAN
UID:36343238-3563-4039-a637-653765313134
X-WR-TIMEZONE:Europe/Paris
BEGIN:VTIMEZONE
TZID:Europe/Paris
TZUNTIL:20251026T010000Z
BEGIN:STANDARD
TZNAME:CET
DTSTART:20231029T030000
TZOFFSETFROM:+0200
TZOFFSETTO:+0100
RDATE:20241027T030000
END:STANDARD
BEGIN:DAYLIGHT
TZNAME:CEST
DTSTART:20230326T020000
TZOFFSETFROM:+0100
TZOFFSETTO:+0200
RDATE:20240331T020000
RDATE:20250330T020000
END:DAYLIGHT
END:VTIMEZONE
BEGIN:VEVENT
UID:33636163-3130-4939-b530-356165663164
DTSTAMP:20260421T112933Z
DTSTART:20231113T170000Z
DTEND:20231116T130000Z
LOCATION:Aérocampus Aquitaine\, Latresne
SUMMARY:XIII STICS Seminar\, Aérocampus Aquitaine\, Latresne
URL:https://eng-stics-bx2023.seminaire.inrae.fr
END:VEVENT
END:VCALENDAR
